BEGIN:VCALENDAR
VERSION:2.0
PRODID:-//Schützengesellschaft Bütschwil - ECPv6.15.20//NONSGML v1.0//EN
CALSCALE:GREGORIAN
METHOD:PUBLISH
X-ORIGINAL-URL:https://sgb.siebenberge.com
X-WR-CALDESC:Veranstaltungen für Schützengesellschaft Bütschwil
REFRESH-INTERVAL;VALUE=DURATION:PT1H
X-Robots-Tag:noindex
X-PUBLISHED-TTL:PT1H
BEGIN:VTIMEZONE
TZID:Europe/Zurich
BEGIN:DAYLIGHT
TZOFFSETFROM:+0100
TZOFFSETTO:+0200
TZNAME:CEST
DTSTART:20230326T010000
END:DAYLIGHT
BEGIN:STANDARD
TZOFFSETFROM:+0200
TZOFFSETTO:+0100
TZNAME:CET
DTSTART:20231029T010000
END:STANDARD
BEGIN:DAYLIGHT
TZOFFSETFROM:+0100
TZOFFSETTO:+0200
TZNAME:CEST
DTSTART:20240331T010000
END:DAYLIGHT
BEGIN:STANDARD
TZOFFSETFROM:+0200
TZOFFSETTO:+0100
TZNAME:CET
DTSTART:20241027T010000
END:STANDARD
BEGIN:DAYLIGHT
TZOFFSETFROM:+0100
TZOFFSETTO:+0200
TZNAME:CEST
DTSTART:20250330T010000
END:DAYLIGHT
BEGIN:STANDARD
TZOFFSETFROM:+0200
TZOFFSETTO:+0100
TZNAME:CET
DTSTART:20251026T010000
END:STANDARD
END:VTIMEZONE
BEGIN:VTIMEZONE
TZID:UTC
BEGIN:STANDARD
TZOFFSETFROM:+0000
TZOFFSETTO:+0000
TZNAME:UTC
DTSTART:20230101T000000
END:STANDARD
END:VTIMEZONE
BEGIN:VEVENT
DTSTART;TZID=Europe/Zurich:20240514T080000
DTEND;TZID=Europe/Zurich:20240514T170000
DTSTAMP:20260420T161017
CREATED:20240506T192442Z
LAST-MODIFIED:20240506T192445Z
UID:82-1715673600-1715706000@sgb.siebenberge.com
SUMMARY:test
DESCRIPTION:
URL:https://sgb.siebenberge.com/event/test-2/
CATEGORIES:Test
END:VEVENT
BEGIN:VEVENT
DTSTART;TZID=UTC:20240506T080000
DTEND;TZID=UTC:20240506T170000
DTSTAMP:20260420T161017
CREATED:20240506T171803Z
LAST-MODIFIED:20240506T171803Z
UID:75-1714982400-1715014800@sgb.siebenberge.com
SUMMARY:Test
DESCRIPTION:
URL:https://sgb.siebenberge.com/event/test/
END:VEVENT
END:VCALENDAR